BEGIN:VCALENDAR
VERSION:2.0
PRODID:-//Friends of Roman Aldborough - ECPv6.15.20//NONSGML v1.0//EN
CALSCALE:GREGORIAN
METHOD:PUBLISH
X-ORIGINAL-URL:https://www.romanaldborough.co.uk
X-WR-CALDESC:Events for Friends of Roman Aldborough
REFRESH-INTERVAL;VALUE=DURATION:PT1H
X-Robots-Tag:noindex
X-PUBLISHED-TTL:PT1H
BEGIN:VTIMEZONE
TZID:Europe/London
BEGIN:DAYLIGHT
TZOFFSETFROM:+0000
TZOFFSETTO:+0100
TZNAME:BST
DTSTART:20250330T010000
END:DAYLIGHT
BEGIN:STANDARD
TZOFFSETFROM:+0100
TZOFFSETTO:+0000
TZNAME:GMT
DTSTART:20251026T010000
END:STANDARD
BEGIN:DAYLIGHT
TZOFFSETFROM:+0000
TZOFFSETTO:+0100
TZNAME:BST
DTSTART:20260329T010000
END:DAYLIGHT
BEGIN:STANDARD
TZOFFSETFROM:+0100
TZOFFSETTO:+0000
TZNAME:GMT
DTSTART:20261025T010000
END:STANDARD
BEGIN:DAYLIGHT
TZOFFSETFROM:+0000
TZOFFSETTO:+0100
TZNAME:BST
DTSTART:20270328T010000
END:DAYLIGHT
BEGIN:STANDARD
TZOFFSETFROM:+0100
TZOFFSETTO:+0000
TZNAME:GMT
DTSTART:20271031T010000
END:STANDARD
END:VTIMEZONE
BEGIN:VEVENT
DTSTART;TZID=Europe/London:20260924T193000
DTEND;TZID=Europe/London:20260924T210000
DTSTAMP:20260424T004734
CREATED:20260110T165230Z
LAST-MODIFIED:20260212T180837Z
UID:1969-1790278200-1790283600@www.romanaldborough.co.uk
SUMMARY:Aldborough Excavations - Prof Martin Millett and Dr Rose Ferraby\, Cambridge University
DESCRIPTION:The Aldborough Roman Town Project began in 2009\, with the aim of learning more about the remains of Isurium Brigantum\, and what it could reveal about Roman Britain. Over the past seventeen years a wide range of survey techniques has been used to map the buildings and roads as well as pulling together previous work in the area. A great deal has been discovered about this Roman town which was an important centre of administration for much of northern Britain. \nMore recently a series of excavations have taken place and these have not only added to our understanding of the town\, but have also changed our perception. Evidence of metal working on an industrial scale\, in particular\, helps us to see Isurium Brigantum in a new light. \nIn this talk\, Martin will bring together the results of the post- excavation analysis and give us his most up-to-date thoughts on this remarkable site. We encourage you to join us in St Andrew’s Church for what promises to be a fascinating talk.  \nTalks are free to Friends of Roman Aldborough members.\nVisitors £7.50
URL:https://www.romanaldborough.co.uk/programme/aldborough-excavations-prof-martin-millett-and-dr-rose-ferraby-cambridge-university/
LOCATION:St Andrew’s Church\, Aldborough\, York\, YO51 9ER\, United Kingdom
END:VEVENT
END:VCALENDAR