BEGIN:VCALENDAR
VERSION:2.0
PRODID:-//Friends of Roman Aldborough - ECPv6.15.20//NONSGML v1.0//EN
CALSCALE:GREGORIAN
METHOD:PUBLISH
X-ORIGINAL-URL:https://www.romanaldborough.co.uk
X-WR-CALDESC:Events for Friends of Roman Aldborough
REFRESH-INTERVAL;VALUE=DURATION:PT1H
X-Robots-Tag:noindex
X-PUBLISHED-TTL:PT1H
BEGIN:VTIMEZONE
TZID:Europe/London
BEGIN:DAYLIGHT
TZOFFSETFROM:+0000
TZOFFSETTO:+0100
TZNAME:BST
DTSTART:20250330T010000
END:DAYLIGHT
BEGIN:STANDARD
TZOFFSETFROM:+0100
TZOFFSETTO:+0000
TZNAME:GMT
DTSTART:20251026T010000
END:STANDARD
BEGIN:DAYLIGHT
TZOFFSETFROM:+0000
TZOFFSETTO:+0100
TZNAME:BST
DTSTART:20260329T010000
END:DAYLIGHT
BEGIN:STANDARD
TZOFFSETFROM:+0100
TZOFFSETTO:+0000
TZNAME:GMT
DTSTART:20261025T010000
END:STANDARD
BEGIN:DAYLIGHT
TZOFFSETFROM:+0000
TZOFFSETTO:+0100
TZNAME:BST
DTSTART:20270328T010000
END:DAYLIGHT
BEGIN:STANDARD
TZOFFSETFROM:+0100
TZOFFSETTO:+0000
TZNAME:GMT
DTSTART:20271031T010000
END:STANDARD
END:VTIMEZONE
BEGIN:VEVENT
DTSTART;VALUE=DATE:20260819
DTEND;VALUE=DATE:20260820
DTSTAMP:20260423T231908
CREATED:20260110T170433Z
LAST-MODIFIED:20260213T154252Z
UID:1977-1787097600-1787183999@www.romanaldborough.co.uk
SUMMARY:Visit to Castleford Museum and Leeds City Museum - curator led tours of Roman sections
DESCRIPTION:Castleford was founded by the Roman Army when a temporary fort was built at the crossing point of the River Aire. Roman activity continued until at least the 3rd century when focus changed to trade and production.Archaeological digs in the 1970’s and 1980’s uncovered the well preserved remains of a Roman bath house as well as evidence of spoon production\, brooch making\, lead seal boxes and some incredibly well preserved leather objects. A selection of these objects are now on display at Castleford Museum together with a replica of the Iron Age chariot found in 2003 during the widening of the A1M. Dave Evans\, Museum Curator will give us a private tour of the museum. \nIn the afternoon we will be given a guided tour of the Roman section of Leeds City Museum where we will view objects from the Dalton Parlours Villa\, artefacts from Aldborough Roman Town including the Romulus and Remus mosaic. This mosaic was discovered in 1834 and shortly afterwards was removed to Boroughbridge where it formed the foundation of a garden room. Purchased by Leeds Philosophical Society in the 1860’s it now takes pride of place in Leeds City Museum. \nMinibus travel from Aldborough will be available for this visit.
URL:https://www.romanaldborough.co.uk/programme/visit-to-castleford-museum-and-leeds-city-museum-curator-led-tours-of-roman-sections/
END:VEVENT
END:VCALENDAR