BEGIN:VCALENDAR
VERSION:2.0
PRODID:-//Friends of Roman Aldborough - ECPv6.15.20//NONSGML v1.0//EN
CALSCALE:GREGORIAN
METHOD:PUBLISH
X-ORIGINAL-URL:https://www.romanaldborough.co.uk
X-WR-CALDESC:Events for Friends of Roman Aldborough
REFRESH-INTERVAL;VALUE=DURATION:PT1H
X-Robots-Tag:noindex
X-PUBLISHED-TTL:PT1H
BEGIN:VTIMEZONE
TZID:Europe/London
BEGIN:DAYLIGHT
TZOFFSETFROM:+0000
TZOFFSETTO:+0100
TZNAME:BST
DTSTART:20250330T010000
END:DAYLIGHT
BEGIN:STANDARD
TZOFFSETFROM:+0100
TZOFFSETTO:+0000
TZNAME:GMT
DTSTART:20251026T010000
END:STANDARD
BEGIN:DAYLIGHT
TZOFFSETFROM:+0000
TZOFFSETTO:+0100
TZNAME:BST
DTSTART:20260329T010000
END:DAYLIGHT
BEGIN:STANDARD
TZOFFSETFROM:+0100
TZOFFSETTO:+0000
TZNAME:GMT
DTSTART:20261025T010000
END:STANDARD
BEGIN:DAYLIGHT
TZOFFSETFROM:+0000
TZOFFSETTO:+0100
TZNAME:BST
DTSTART:20270328T010000
END:DAYLIGHT
BEGIN:STANDARD
TZOFFSETFROM:+0100
TZOFFSETTO:+0000
TZNAME:GMT
DTSTART:20271031T010000
END:STANDARD
END:VTIMEZONE
BEGIN:VEVENT
DTSTART;TZID=Europe/London:20260725T143000
DTEND;TZID=Europe/London:20260725T160000
DTSTAMP:20260423T213550
CREATED:20260110T165004Z
LAST-MODIFIED:20260212T180815Z
UID:1967-1784989800-1784995200@www.romanaldborough.co.uk
SUMMARY:Uncovering Roman Carlisle - Anna Giecco and Nick Henderson\, Archaeologists and Trustees at the Uncovering Roman Carlisle Project
DESCRIPTION:  \n \nUncovering Roman Carlisle is an ongoing community archaeology project\, exploring and exhibiting Carlisle’s Roman Bathhouse. The project grew from humble beginnings when archaeologists from Wardell Armstrong LLP were commissioned by Carlisle Cricket Club to undertake an evaluation for a new Cricket Pavilion in 2017\, and discovered a Roman Bathhouse\, now the largest known building on Hadrian’s Wall. Returning to the site every year since 2021\, Uncovering Roman Carlisle has brought hundreds of volunteers to further explore the site\, study and conserve the finds\, and to exhibit the discoveries to the world. \nFinds from the site include an impressive pair of large stone heads\, a soldier’s diploma granting its owner Roman citizenship for himself and his family after 25 years of service and a rare Tyrian purple pigment dating to the era of Septimius Severus. This is believed to be the only unused sample of the pigment ever found in the Roman Empire and raises the question as to whether this was indeed a bathhouse with imperial connections. \nThe Uncovering Roman Carlisle Project features regularly in newspaper and magazine articles and appeared recently on BBC’s Digging for Britain programme with Alice Roberts. We look forward to welcoming Anna Giecco and Nick Henderson to Aldborough to tell us more about this very impressive project. \nTalks are free to Friends of Roman Aldborough members.\nVisitors £7.50\n  \n 
URL:https://www.romanaldborough.co.uk/programme/uncovering-roman-carlisle-anna-giecco-and-nick-henderson-archaeologists-and-trustees-at-the-uncovering-roman-carlisle-project/
LOCATION:Aldborough Village Hall\, Aldborough\, York\, YO51 9ER\, United Kingdom
END:VEVENT
END:VCALENDAR