BEGIN:VCALENDAR
VERSION:2.0
PRODID:-//Friends of Roman Aldborough - ECPv6.15.20//NONSGML v1.0//EN
CALSCALE:GREGORIAN
METHOD:PUBLISH
X-ORIGINAL-URL:https://www.romanaldborough.co.uk
X-WR-CALDESC:Events for Friends of Roman Aldborough
REFRESH-INTERVAL;VALUE=DURATION:PT1H
X-Robots-Tag:noindex
X-PUBLISHED-TTL:PT1H
BEGIN:VTIMEZONE
TZID:Europe/London
BEGIN:DAYLIGHT
TZOFFSETFROM:+0000
TZOFFSETTO:+0100
TZNAME:BST
DTSTART:20250330T010000
END:DAYLIGHT
BEGIN:STANDARD
TZOFFSETFROM:+0100
TZOFFSETTO:+0000
TZNAME:GMT
DTSTART:20251026T010000
END:STANDARD
BEGIN:DAYLIGHT
TZOFFSETFROM:+0000
TZOFFSETTO:+0100
TZNAME:BST
DTSTART:20260329T010000
END:DAYLIGHT
BEGIN:STANDARD
TZOFFSETFROM:+0100
TZOFFSETTO:+0000
TZNAME:GMT
DTSTART:20261025T010000
END:STANDARD
BEGIN:DAYLIGHT
TZOFFSETFROM:+0000
TZOFFSETTO:+0100
TZNAME:BST
DTSTART:20270328T010000
END:DAYLIGHT
BEGIN:STANDARD
TZOFFSETFROM:+0100
TZOFFSETTO:+0000
TZNAME:GMT
DTSTART:20271031T010000
END:STANDARD
END:VTIMEZONE
BEGIN:VEVENT
DTSTART;TZID=Europe/London:20260509T143000
DTEND;TZID=Europe/London:20260509T160000
DTSTAMP:20260423T182108
CREATED:20260110T164315Z
LAST-MODIFIED:20260212T180713Z
UID:1962-1778337000-1778342400@www.romanaldborough.co.uk
SUMMARY:Discovering Pigment on Roman Sculpture - Dr Louisa Campbell\, University of Glasgow
DESCRIPTION:In October 2024 on a tour of the Great North Museum \, FORA members were intrigued by projections of colour on the stone work as part of the Roman Britain in Colour display. Andrew Parkin\, Keeper of Archaeology and their guide for the day said\, “We’re used to the look of sandstone altars and reliefs in museums but we forget that they were originally painted in bright colours. The paint has been lost over the centuries but researchers have found trace amounts of pigment using ultraviolet light and x-rays.” \nPaint pigments were made from local\, natural materials made earthy colours and rare colours like blue were only used for special artworks. These pigments could have travelled over 1000 miles from other parts of the Roman Empire to reach Britain and were used in small amounts \nDr Louisa Campbell is a Lecturer in Heritage Materials Science at the University of Glasgow with a specialism in material culture. Her primary research interests focus on developing methods to analyse and interpret artefacts using cutting edge scientific techniques. Part of her research has involved investigating evidence of pigments on prehistoric\, Roman and Medieval sculpture. Louisa’s talk will focus on discovering pigment on Roman sculpture and will ensure that we look at it in a completely new light. \nWe very much look forward to welcoming her to Aldborough. \nTalks are free to Friends of Roman Aldborough members.\nVisitors £7.50\n  \n 
URL:https://www.romanaldborough.co.uk/programme/discovering-pigment-on-roman-sculpture-dr-louisa-campbell-university-of-glasgow/
LOCATION:Aldborough Village Hall\, Aldborough\, York\, YO51 9ER\, United Kingdom
END:VEVENT
END:VCALENDAR