BEGIN:VCALENDAR
VERSION:2.0
PRODID:-//Friends of Roman Aldborough - ECPv6.15.20//NONSGML v1.0//EN
CALSCALE:GREGORIAN
METHOD:PUBLISH
X-ORIGINAL-URL:https://www.romanaldborough.co.uk
X-WR-CALDESC:Events for Friends of Roman Aldborough
REFRESH-INTERVAL;VALUE=DURATION:PT1H
X-Robots-Tag:noindex
X-PUBLISHED-TTL:PT1H
BEGIN:VTIMEZONE
TZID:Europe/London
BEGIN:DAYLIGHT
TZOFFSETFROM:+0000
TZOFFSETTO:+0100
TZNAME:BST
DTSTART:20250330T010000
END:DAYLIGHT
BEGIN:STANDARD
TZOFFSETFROM:+0100
TZOFFSETTO:+0000
TZNAME:GMT
DTSTART:20251026T010000
END:STANDARD
BEGIN:DAYLIGHT
TZOFFSETFROM:+0000
TZOFFSETTO:+0100
TZNAME:BST
DTSTART:20260329T010000
END:DAYLIGHT
BEGIN:STANDARD
TZOFFSETFROM:+0100
TZOFFSETTO:+0000
TZNAME:GMT
DTSTART:20261025T010000
END:STANDARD
BEGIN:DAYLIGHT
TZOFFSETFROM:+0000
TZOFFSETTO:+0100
TZNAME:BST
DTSTART:20270328T010000
END:DAYLIGHT
BEGIN:STANDARD
TZOFFSETFROM:+0100
TZOFFSETTO:+0000
TZNAME:GMT
DTSTART:20271031T010000
END:STANDARD
END:VTIMEZONE
BEGIN:VEVENT
DTSTART;TZID=Europe/London:20260328T133000
DTEND;TZID=Europe/London:20260328T140000
DTSTAMP:20260423T181601
CREATED:20260110T171248Z
LAST-MODIFIED:20260110T171248Z
UID:1983-1774704600-1774706400@www.romanaldborough.co.uk
SUMMARY:FORA AGM
DESCRIPTION:
URL:https://www.romanaldborough.co.uk/programme/fora-agm/
LOCATION:Aldborough Village Hall\, Aldborough\, York\, YO51 9ER\, United Kingdom
END:VEVENT
BEGIN:VEVENT
DTSTART;TZID=Europe/London:20260328T143000
DTEND;TZID=Europe/London:20260328T160000
DTSTAMP:20260423T181602
CREATED:20260110T163716Z
LAST-MODIFIED:20260212T180606Z
UID:1955-1774708200-1774713600@www.romanaldborough.co.uk
SUMMARY:Roman Emperors and their Illnesses - Dr Nick Summerton\, Roman specialist and guide.
DESCRIPTION:Medical history has been particularly unkind to some historical figures. The\, so-called\, ‘mad emperors’ Caligula\, Tiberius and Nero cannot question their various psychiatric diagnoses or request a second opinion. Neither can Maximinus Thrax demand further testing to refute or confirm the suggestion that he suffered from a type of hormonal disorder. \nDiagnosing the illnesses of Roman emperors might not be viewed as an appropriate line of enquiry given the enormous gulf that separates ancient and modern medicine. However\, there are certainly some major challenges in using present medical knowledge to identify past diseases\, there are potential opportunities too in augmenting – or even correcting the historical record. \nBy carefully and cautiously applying modern medical insights to ancient sources\, this talk will challenge myths\, correct assumptions\, and offer a more humane understanding of the men behind the imperial image. \nNick Summerton is a retired doctor with longstanding interests in Roman numismatics and Greco – Roman Medicine and is also a FORA Trustee. He has written numerous books including ‘Greco- Roman Medicine and What It Can Teach Us Today’ and ‘Roman Emperors and Their Illnesses.’ Nick gave an excellent talk on ‘Medicine and Health care in Roman Britain’ in 2021 and also led a Roman Medicine Day in conjunction with the Aldborough Roman Garden team in August 2025. \nTalks are free to Friends of Roman Aldborough members.\nVisitors £7.50\n 
URL:https://www.romanaldborough.co.uk/programme/roman-emperors-and-their-illnesses-dr-nick-summerton-roman-specialist-and-guide/
LOCATION:Aldborough Village Hall\, Aldborough\, York\, YO51 9ER\, United Kingdom
END:VEVENT
END:VCALENDAR