BEGIN:VCALENDAR
VERSION:2.0
PRODID:-//Friends of Roman Aldborough - ECPv6.15.20//NONSGML v1.0//EN
CALSCALE:GREGORIAN
METHOD:PUBLISH
X-WR-CALNAME:Friends of Roman Aldborough
X-ORIGINAL-URL:https://www.romanaldborough.co.uk
X-WR-CALDESC:Events for Friends of Roman Aldborough
REFRESH-INTERVAL;VALUE=DURATION:PT1H
X-Robots-Tag:noindex
X-PUBLISHED-TTL:PT1H
BEGIN:VTIMEZONE
TZID:Europe/London
BEGIN:DAYLIGHT
TZOFFSETFROM:+0000
TZOFFSETTO:+0100
TZNAME:BST
DTSTART:20240331T010000
END:DAYLIGHT
BEGIN:STANDARD
TZOFFSETFROM:+0100
TZOFFSETTO:+0000
TZNAME:GMT
DTSTART:20241027T010000
END:STANDARD
BEGIN:DAYLIGHT
TZOFFSETFROM:+0000
TZOFFSETTO:+0100
TZNAME:BST
DTSTART:20250330T010000
END:DAYLIGHT
BEGIN:STANDARD
TZOFFSETFROM:+0100
TZOFFSETTO:+0000
TZNAME:GMT
DTSTART:20251026T010000
END:STANDARD
BEGIN:DAYLIGHT
TZOFFSETFROM:+0000
TZOFFSETTO:+0100
TZNAME:BST
DTSTART:20260329T010000
END:DAYLIGHT
BEGIN:STANDARD
TZOFFSETFROM:+0100
TZOFFSETTO:+0000
TZNAME:GMT
DTSTART:20261025T010000
END:STANDARD
END:VTIMEZONE
BEGIN:VEVENT
DTSTART;TZID=Europe/London:20251101T143000
DTEND;TZID=Europe/London:20251101T160000
DTSTAMP:20260424T010824
CREATED:20250222T143651Z
LAST-MODIFIED:20251018T212540Z
UID:299-1762007400-1762012800@www.romanaldborough.co.uk
SUMMARY:Trimontium: Gateway to Roman Scotland
DESCRIPTION:Trimontium was a Roman fort complex located at Newstead\, near Melrose\, in the Scottish Borders\, beneath the three Eldon Hills which almost certainly gave it its name (Latin: trim montium\, three hills). It was occupied from about 79 to 184 and was the largest of the “outpost” forts after the construction of Hadrian’s Wall. Trimontium was about three times larger than any fort on Hadrian’s Wall and by 180 became the most northerly settlement of the whole Roman Empire. Trimontium is also considered of international importance as the site of one of the largest caches of Roman military objects in Britain\, found in 117 pits. \nThe Trimontium Trust museum redevelopment project has seen key finds return to the vicinity of the original fort site and archaeological excavations. They are housed within an impressive museum setting which extends\, redesigns\, reinterprets and re-displays objects telling the story of Trimontium and its relationship with the local population. \nJohn Reid\, the Trust Chairman\, is a recently retired NHS consultant\, who has been a Roman history enthusiast since childhood. He has led several Trust initiatives including the facial restoration of Trimontium Man\, the fort reconstruction and the groundbreaking archaeological investigations at Burnswark Hill. We look forward to meeting John\, who is travelling down from Trimontium especially to talk to us and to tell us more about this remarkable site. \nCost £7.50 (Friends of Roman Aldborough members free)
URL:https://www.romanaldborough.co.uk/programme/trimontium-gateway-to-roman-scotland/
LOCATION:Aldborough Village Hall\, Aldborough\, York\, YO51 9ER\, United Kingdom
CATEGORIES:Talks
END:VEVENT
END:VCALENDAR