BEGIN:VCALENDAR
VERSION:2.0
PRODID:-//Friends of Roman Aldborough - ECPv6.15.20//NONSGML v1.0//EN
CALSCALE:GREGORIAN
METHOD:PUBLISH
X-WR-CALNAME:Friends of Roman Aldborough
X-ORIGINAL-URL:https://www.romanaldborough.co.uk
X-WR-CALDESC:Events for Friends of Roman Aldborough
REFRESH-INTERVAL;VALUE=DURATION:PT1H
X-Robots-Tag:noindex
X-PUBLISHED-TTL:PT1H
BEGIN:VTIMEZONE
TZID:Europe/London
BEGIN:DAYLIGHT
TZOFFSETFROM:+0000
TZOFFSETTO:+0100
TZNAME:BST
DTSTART:20240331T010000
END:DAYLIGHT
BEGIN:STANDARD
TZOFFSETFROM:+0100
TZOFFSETTO:+0000
TZNAME:GMT
DTSTART:20241027T010000
END:STANDARD
BEGIN:DAYLIGHT
TZOFFSETFROM:+0000
TZOFFSETTO:+0100
TZNAME:BST
DTSTART:20250330T010000
END:DAYLIGHT
BEGIN:STANDARD
TZOFFSETFROM:+0100
TZOFFSETTO:+0000
TZNAME:GMT
DTSTART:20251026T010000
END:STANDARD
BEGIN:DAYLIGHT
TZOFFSETFROM:+0000
TZOFFSETTO:+0100
TZNAME:BST
DTSTART:20260329T010000
END:DAYLIGHT
BEGIN:STANDARD
TZOFFSETFROM:+0100
TZOFFSETTO:+0000
TZNAME:GMT
DTSTART:20261025T010000
END:STANDARD
END:VTIMEZONE
BEGIN:VEVENT
DTSTART;TZID=Europe/London:20250816T110000
DTEND;TZID=Europe/London:20250816T160000
DTSTAMP:20260424T062228
CREATED:20250709T115952Z
LAST-MODIFIED:20250709T123931Z
UID:1546-1755342000-1755360000@www.romanaldborough.co.uk
SUMMARY:Blood\, Sweat and Tears\, Medicine and Healing in Roman Britain - Dr Nick Summerton
DESCRIPTION:FORA is offering a unique opportunity to learn more about this impressive Roman site and to join Dr Nick Summerton\, a specialist in Roman medicine\, in a hands on session in the Roman Garden. Nick is planning two interactive sessions with a practical focus on various aspects of healing and medicine… linked to blood sweat and tears. Many of the herbs which are growing in the Roman Garden were used in Roman healing and medicine and will be included in the presentation. \nNick is a retired general practitioner with longstanding interests in Roman Britain\, Roman Numismatics and Roman Medicine. He has an extensive publication record and is the author of six books including `Greco-Roman Medicine and What It Can Teach Us Today` and `Roman Emperors and their Illnesses: Healthcare in Ancient Rome`. Nick leads regular tours of the civilian and military Roman sites within Yorkshire and continues to excavate both in East Yorkshire and Gloucestershire. \nIn each of the 2 hourly sessions\, there will also be the opportunity to visit the museum and tour the site with one of the English Heritage guides. \nSession1 11.00 – 13.00 \nSession 2 14.00 – 16.00 \nPlaces are limited so early booking is advisable to avoid disappointment. \nThe price is £10 for FORA members and £15 for non- FORA members. \nFor more information and to book a place\, please contact visits@romanaldborough.co.uk \n  \n 
URL:https://www.romanaldborough.co.uk/programme/blood-sweat-and-tears-medicine-and-healing-in-roman-britain-dr-nick-summerton/
LOCATION:Aldborough Roman Site\, Front Street\, Aldborough\, York\, YO51 9ES\, United Kingdom
END:VEVENT
END:VCALENDAR