BEGIN:VCALENDAR
VERSION:2.0
PRODID:-//Friends of Roman Aldborough - ECPv6.15.20//NONSGML v1.0//EN
CALSCALE:GREGORIAN
METHOD:PUBLISH
X-WR-CALNAME:Friends of Roman Aldborough
X-ORIGINAL-URL:https://www.romanaldborough.co.uk
X-WR-CALDESC:Events for Friends of Roman Aldborough
REFRESH-INTERVAL;VALUE=DURATION:PT1H
X-Robots-Tag:noindex
X-PUBLISHED-TTL:PT1H
BEGIN:VTIMEZONE
TZID:Europe/London
BEGIN:DAYLIGHT
TZOFFSETFROM:+0000
TZOFFSETTO:+0100
TZNAME:BST
DTSTART:20240331T010000
END:DAYLIGHT
BEGIN:STANDARD
TZOFFSETFROM:+0100
TZOFFSETTO:+0000
TZNAME:GMT
DTSTART:20241027T010000
END:STANDARD
BEGIN:DAYLIGHT
TZOFFSETFROM:+0000
TZOFFSETTO:+0100
TZNAME:BST
DTSTART:20250330T010000
END:DAYLIGHT
BEGIN:STANDARD
TZOFFSETFROM:+0100
TZOFFSETTO:+0000
TZNAME:GMT
DTSTART:20251026T010000
END:STANDARD
BEGIN:DAYLIGHT
TZOFFSETFROM:+0000
TZOFFSETTO:+0100
TZNAME:BST
DTSTART:20260329T010000
END:DAYLIGHT
BEGIN:STANDARD
TZOFFSETFROM:+0100
TZOFFSETTO:+0000
TZNAME:GMT
DTSTART:20261025T010000
END:STANDARD
END:VTIMEZONE
BEGIN:VEVENT
DTSTART;TZID=Europe/London:20250605T193000
DTEND;TZID=Europe/London:20250605T193000
DTSTAMP:20260424T112745
CREATED:20250222T141932Z
LAST-MODIFIED:20250312T143551Z
UID:285-1749151800-1749151800@www.romanaldborough.co.uk
SUMMARY:The Rebel Emperors of Britannia: Carausius & Allectus
DESCRIPTION:Sam Moorhead\nBritish Museum \nTalks are free to Friends of Roman Aldborough members.\nVisitors £7.50
URL:https://www.romanaldborough.co.uk/programme/the-rebel-emperors-of-britannia-carausius-allectus/
LOCATION:Aldborough Village Hall\, Aldborough\, York\, YO51 9ER\, United Kingdom
CATEGORIES:Talks
ATTACH;FMTTYPE=image/jpeg:https://www.romanaldborough.co.uk/wp-content/uploads/2025/02/Event-06.jpg
END:VEVENT
BEGIN:VEVENT
DTSTART;TZID=Europe/London:20250517T143000
DTEND;TZID=Europe/London:20250517T160000
DTSTAMP:20260424T112745
CREATED:20250222T135634Z
LAST-MODIFIED:20250312T095739Z
UID:282-1747492200-1747497600@www.romanaldborough.co.uk
SUMMARY:The Neolithic & Bronze Age Complex of Thornborough
DESCRIPTION:Dr Jan Harding\nNewcastle University \nTalks are free to Friends of Roman Aldborough members.\nVisitors £7.50
URL:https://www.romanaldborough.co.uk/programme/the-neolithic-and-bronze-age-complex-of-thornborough/
LOCATION:Aldborough Village Hall\, Aldborough\, York\, YO51 9ER\, United Kingdom
CATEGORIES:Talks
ATTACH;FMTTYPE=image/jpeg:https://www.romanaldborough.co.uk/wp-content/uploads/2025/02/Event-05.jpg
END:VEVENT
BEGIN:VEVENT
DTSTART;TZID=Europe/London:20250426T143000
DTEND;TZID=Europe/London:20250426T160000
DTSTAMP:20260424T112745
CREATED:20250222T135240Z
LAST-MODIFIED:20250312T095616Z
UID:279-1745677800-1745683200@www.romanaldborough.co.uk
SUMMARY:Seeing the Dead
DESCRIPTION:New Insights into Roman Gypsum Burials in Yorkshire\nProf Maureen Carroll\nUniversity of York \nTalks are free to Friends of Roman Aldborough members.\nVisitors £7.50
URL:https://www.romanaldborough.co.uk/programme/seeing-the-dead/
LOCATION:Aldborough Village Hall\, Aldborough\, York\, YO51 9ER\, United Kingdom
CATEGORIES:Talks
ATTACH;FMTTYPE=image/jpeg:https://www.romanaldborough.co.uk/wp-content/uploads/2025/02/Event-04.jpg
END:VEVENT
BEGIN:VEVENT
DTSTART;TZID=Europe/London:20250426T133000
DTEND;TZID=Europe/London:20250426T143000
DTSTAMP:20260424T112745
CREATED:20250222T134745Z
LAST-MODIFIED:20250312T095712Z
UID:274-1745674200-1745677800@www.romanaldborough.co.uk
SUMMARY:FORA Annual General Meeting
DESCRIPTION:Friends of Roman Aldborough Annual General Meeting
URL:https://www.romanaldborough.co.uk/programme/fora-annual-general-meeting/
LOCATION:Aldborough Village Hall\, Aldborough\, York\, YO51 9ER\, United Kingdom
CATEGORIES:Talks
ATTACH;FMTTYPE=image/jpeg:https://www.romanaldborough.co.uk/wp-content/uploads/2025/02/Event-03.jpg
END:VEVENT
BEGIN:VEVENT
DTSTART;TZID=Europe/London:20250329T143000
DTEND;TZID=Europe/London:20250329T160000
DTSTAMP:20260424T112745
CREATED:20250222T134154Z
LAST-MODIFIED:20250312T095451Z
UID:270-1743258600-1743264000@www.romanaldborough.co.uk
SUMMARY:York’s Legionary Baths
DESCRIPTION:Kurt Hunter-Mann\nYork Archaeologist \nTalks are free to Friends of Roman Aldborough members.\nVisitors £7.50
URL:https://www.romanaldborough.co.uk/programme/yorks-legionary-baths/
LOCATION:Aldborough Village Hall\, Aldborough\, York\, YO51 9ER\, United Kingdom
CATEGORIES:Talks
ATTACH;FMTTYPE=image/jpeg:https://www.romanaldborough.co.uk/wp-content/uploads/2025/02/Event-02.jpg
END:VEVENT
BEGIN:VEVENT
DTSTART;TZID=Europe/London:20250222T143000
DTEND;TZID=Europe/London:20250222T143000
DTSTAMP:20260424T112745
CREATED:20250222T125043Z
LAST-MODIFIED:20250224T124551Z
UID:246-1740234600-1740234600@www.romanaldborough.co.uk
SUMMARY:Exploring the Plants of Roman Aldborough
DESCRIPTION:The Botanical Remains from the 2024 Excavations\nNeal Payne\nMcDonald Institute for Archaeological Research\nUniversity of Cambridge \nTalks are free to Friends of Roman Aldborough members.\nVisitors £7.50
URL:https://www.romanaldborough.co.uk/programme/exploring-the-plants-of-roman-aldborough/
LOCATION:Aldborough Village Hall\, Aldborough\, York\, YO51 9ER\, United Kingdom
CATEGORIES:Talks
ATTACH;FMTTYPE=image/jpeg:https://www.romanaldborough.co.uk/wp-content/uploads/2025/02/Event-01.jpg
END:VEVENT
END:VCALENDAR