BEGIN:VCALENDAR
VERSION:2.0
PRODID:-//Friends of Roman Aldborough - ECPv6.15.20//NONSGML v1.0//EN
CALSCALE:GREGORIAN
METHOD:PUBLISH
X-WR-CALNAME:Friends of Roman Aldborough
X-ORIGINAL-URL:https://www.romanaldborough.co.uk
X-WR-CALDESC:Events for Friends of Roman Aldborough
REFRESH-INTERVAL;VALUE=DURATION:PT1H
X-Robots-Tag:noindex
X-PUBLISHED-TTL:PT1H
BEGIN:VTIMEZONE
TZID:Europe/London
BEGIN:DAYLIGHT
TZOFFSETFROM:+0000
TZOFFSETTO:+0100
TZNAME:BST
DTSTART:20240331T010000
END:DAYLIGHT
BEGIN:STANDARD
TZOFFSETFROM:+0100
TZOFFSETTO:+0000
TZNAME:GMT
DTSTART:20241027T010000
END:STANDARD
BEGIN:DAYLIGHT
TZOFFSETFROM:+0000
TZOFFSETTO:+0100
TZNAME:BST
DTSTART:20250330T010000
END:DAYLIGHT
BEGIN:STANDARD
TZOFFSETFROM:+0100
TZOFFSETTO:+0000
TZNAME:GMT
DTSTART:20251026T010000
END:STANDARD
BEGIN:DAYLIGHT
TZOFFSETFROM:+0000
TZOFFSETTO:+0100
TZNAME:BST
DTSTART:20260329T010000
END:DAYLIGHT
BEGIN:STANDARD
TZOFFSETFROM:+0100
TZOFFSETTO:+0000
TZNAME:GMT
DTSTART:20261025T010000
END:STANDARD
END:VTIMEZONE
BEGIN:VEVENT
DTSTART;TZID=Europe/London:20251011T143000
DTEND;TZID=Europe/London:20251011T160000
DTSTAMP:20260424T082717
CREATED:20250222T143402Z
LAST-MODIFIED:20251001T115030Z
UID:296-1760193000-1760198400@www.romanaldborough.co.uk
SUMMARY:Excuse me\, can you show me to the Bathroom?
DESCRIPTION:For many years it has been thought that a Roman villa\, possibly on a palatial scale\, stood on the Roman road between Aldborough and Malton. During the construction of ornamental gardens\, streams and fish-ponds at Hovingham Hall in 1745 the remains of a Roman bath-suite were found complete with hypocausts. More recently\, Dominic Powlesland has been leading archaeological excavations to look for further evidence and will now reveal what has been uncovered. Due to the sensitivity of the information\, this talk will not be available as a YouTube recording. \nDominic Powlesland is the director of the Landscape Research Centre and was awarded an honorary doctorate by the University of York in 2011 in recognition of his pioneering work in landscape archaeology and computer applications in archaeology. He has focused on the Vale of Pickering where has been working on this landscape since 1977\, pioneering investigation techniques and methods that have influenced the discipline internationally. In 2024 he featured in an episode of the BBC programme ‘Digging for Britain’ examining an abandoned Anglo-Saxon settlement from East Heslerton. \nCost £7.50 (Friends of Roman Aldborough members free)
URL:https://www.romanaldborough.co.uk/programme/excuse-me-can-you-show-me-to-the-bathroom/
LOCATION:Aldborough Village Hall\, Aldborough\, York\, YO51 9ER\, United Kingdom
CATEGORIES:Talks
ATTACH;FMTTYPE=image/jpeg:https://www.romanaldborough.co.uk/wp-content/uploads/2025/02/Event-09.jpg
END:VEVENT
END:VCALENDAR